Workbook

Sheet 3819 PROYECTO DETERMINACIÓN ...
A1: Tipo Informe | B1: 32 | C1: 32-CALIFICACIÓN Y GRADUACIÓN DE CRÉDITOS Y DERECHO
A2: Formulario | B2: 3819 | C2: PROYECTO DETERMINACIÓN DE DERECHOS DE VOTO 819 | L2: 12000000000
A3: Moneda Informe | B3: 1 | L3: =L2/8000 -> 1500000
A4: Entidad | B4: 811012461 | L4: =L3*70 -> 105000000
A5: Fecha | B5: 45543
A6: Periodicidad | B6: 1 | C6: NO APLICA
A9: CLASE A
A10: Nombre o Razón Social | B10: Nit o Cédula de Ciudadanía | C10: Dirección de Notificación | D10: Ciudad o Municipio | E10: País | F10: Tipo de Vinculo con el Deudor, Socios, Admon o Controlante? | G10: fecha inicial | H10: ipc | I10: ipc indexacion | J10: factor | K10: No de la Obligación | L10: Saldo de Capital por Pagar | M10: Saldo Capital Vencido | N10: Valor Capital Vencido-Actualizado IPC DANE | O10: Derechos de Voto | P10: Participación Derechos de Voto (%)
A11: ='3820 PASIVOS CALIFICACIÓN Y ...'!A10 -> CLAUDIA PAOLA PAEZ CARDENAS | B11: ='3820 PASIVOS CALIFICACIÓN Y ...'!B10 -> 1121933265 | C11: PARQUE INDUSTRIAL CELTA BOD. 144 | D11: 25473 MOSQUERA-CUNDINAMARCA | E11: 80 80 - COLOMBIA | F11: 5 NINGUNO | K11: PRIMA SERVICIOS | L11: ='3820 PASIVOS CALIFICACIÓN Y ...'!G10 -> 590867 | M11: =L11 -> 590867 | N11: =M11 -> 590867 | O11: =N11 -> 590867 | P11: =O11/$O$505 -> 0.00013359485
A12: ='3820 PASIVOS CALIFICACIÓN Y ...'!A11 -> CLAUDIA PAOLA PAEZ CARDENAS | B12: ='3820 PASIVOS CALIFICACIÓN Y ...'!B11 -> 1121933265 | C12: PARQUE INDUSTRIAL CELTA BOD. 144 | D12: 25473 MOSQUERA-CUNDINAMARCA | E12: 80 80 - COLOMBIA | F12: 5 NINGUNO | K12: CESANTIAS | L12: ='3820 PASIVOS CALIFICACIÓN Y ...'!G11 -> 1795173 | M12: =L12 -> 1795173 | N12: =M12 -> 1795173 | O12: =N12 -> 1795173 | P12: =O12/$O$505 -> 0.00040588807
A13: ='3820 PASIVOS CALIFICACIÓN Y ...'!A12 -> CLAUDIA PAOLA PAEZ CARDENAS | B13: ='3820 PASIVOS CALIFICACIÓN Y ...'!B12 -> 1121933265 | C13: PARQUE INDUSTRIAL CELTA BOD. 144 | D13: 25473 MOSQUERA-CUNDINAMARCA | E13: 80 80 - COLOMBIA | F13: 5 NINGUNO | K13: INTERES CESANTIAS | L13: ='3820 PASIVOS CALIFICACIÓN Y ...'!G12 -> 157976 | M13: =L13 -> 157976 | N13: =M13 -> 157976 | O13: =N13 -> 157976 | P13: =O13/$O$505 -> 3.5718326e-05
A14: ='3820 PASIVOS CALIFICACIÓN Y ...'!A13 -> CLAUDIA PAOLA PAEZ CARDENAS | B14: ='3820 PASIVOS CALIFICACIÓN Y ...'!B13 -> 1121933265 | C14: PARQUE INDUSTRIAL CELTA BOD. 144 | D14: 25473 MOSQUERA-CUNDINAMARCA | E14: 80 80 - COLOMBIA | F14: 5 NINGUNO | K14: VACACIONES | L14: ='3820 PASIVOS CALIFICACIÓN Y ...'!G13 -> 326807 | M14: =L14 -> 326807 | N14: =M14 -> 326807 | O14: =N14 -> 326807 | P14: =O14/$O$505 -> 7.3890964e-05
A15: Total CLAUDIA PAOLA PAEZ CARDENAS | L15: =SUBTOTAL(9,L11:L14) -> 2870823 | M15: =SUBTOTAL(9,M11:M14) -> 2870823 | N15: =SUBTOTAL(9,N11:N14) -> 2870823 | O15: =SUBTOTAL(9,O11:O14) -> 2870823 | P15: =SUBTOTAL(9,P11:P14) -> 0.00064909221
A16: ='3820 PASIVOS CALIFICACIÓN Y ...'!A15 -> DANIEL HERNANDO GOMEZ GOMEZ | B16: ='3820 PASIVOS CALIFICACIÓN Y ...'!B15 -> 79946374 | C16: PARQUE INDUSTRIAL CELTA BOD. 144 | D16: 25473 MOSQUERA-CUNDINAMARCA | E16: 80 80 - COLOMBIA | F16: 5 NINGUNO | K16: PRIMA SERVICIOS | L16: ='3820 PASIVOS CALIFICACIÓN Y ...'!G15 -> 1983333 | M16: =L16 -> 1983333 | N16: =M16 -> 1983333 | O16: =N16 -> 1983333 | P16: =O16/$O$505 -> 0.00044843099
A17: ='3820 PASIVOS CALIFICACIÓN Y ...'!A16 -> DANIEL HERNANDO GOMEZ GOMEZ | B17: ='3820 PASIVOS CALIFICACIÓN Y ...'!B16 -> 79946374 | C17: PARQUE INDUSTRIAL CELTA BOD. 144 | D17: 25473 MOSQUERA-CUNDINAMARCA | E17: 80 80 - COLOMBIA | F17: 5 NINGUNO | K17: CESANTIAS | L17: ='3820 PASIVOS CALIFICACIÓN Y ...'!G16 -> 6233333 | M17: =L17 -> 6233333 | N17: =M17 -> 6233333 | O17: =N17 -> 6233333 | P17: =O17/$O$505 -> 0.0014093547
A18: ='3820 PASIVOS CALIFICACIÓN Y ...'!A17 -> DANIEL HERNANDO GOMEZ GOMEZ | B18: ='3820 PASIVOS CALIFICACIÓN Y ...'!B17 -> 79946374 | C18: PARQUE INDUSTRIAL CELTA BOD. 144 | D18: 25473 MOSQUERA-CUNDINAMARCA | E18: 80 80 - COLOMBIA | F18: 5 NINGUNO | K18: INTERES CESANTIAS | L18: ='3820 PASIVOS CALIFICACIÓN Y ...'!G17 -> 548533 | M18: =L18 -> 548533 | N18: =M18 -> 548533 | O18: =N18 -> 548533 | P18: =O18/$O$505 -> 0.00012402315
A19: ='3820 PASIVOS CALIFICACIÓN Y ...'!A18 -> DANIEL HERNANDO GOMEZ GOMEZ | B19: ='3820 PASIVOS CALIFICACIÓN Y ...'!B18 -> 79946374 | C19: PARQUE INDUSTRIAL CELTA BOD. 144 | D19: 25473 MOSQUERA-CUNDINAMARCA | E19: 80 80 - COLOMBIA | F19: 5 NINGUNO | K19: VACACIONES | L19: ='3820 PASIVOS CALIFICACIÓN Y ...'!G18 -> 5023925 | M19: =L19 -> 5023925 | N19: =M19 -> 5023925 | O19: =N19 -> 5023925 | P19: =O19/$O$505 -> 0.0011359079
A20: Total DANIEL HERNANDO GOMEZ GOMEZ | L20: =SUBTOTAL(9,L16:L19) -> 13789124 | M20: =SUBTOTAL(9,M16:M19) -> 13789124 | N20: =SUBTOTAL(9,N16:N19) -> 13789124 | O20: =SUBTOTAL(9,O16:O19) -> 13789124 | P20: =SUBTOTAL(9,P16:P19) -> 0.0031177168
A21: ='3820 PASIVOS CALIFICACIÓN Y ...'!A20 -> DANIELA CADENA PEÑA | B21: ='3820 PASIVOS CALIFICACIÓN Y ...'!B20 -> 1073254222 | C21: PARQUE INDUSTRIAL CELTA BOD. 144 | D21: 25473 MOSQUERA-CUNDINAMARCA | E21: 80 80 - COLOMBIA | F21: 5 NINGUNO | K21: PRIMA SERVICIOS | L21: ='3820 PASIVOS CALIFICACIÓN Y ...'!G20 -> 231311 | M21: =L21 -> 231311 | N21: =M21 -> 231311 | O21: =N21 -> 231311 | P21: =O21/$O$505 -> 5.2299347e-05
A22: ='3820 PASIVOS CALIFICACIÓN Y ...'!A21 -> DANIELA CADENA PEÑA | B22: ='3820 PASIVOS CALIFICACIÓN Y ...'!B21 -> 1073254222 | C22: PARQUE INDUSTRIAL CELTA BOD. 144 | D22: 25473 MOSQUERA-CUNDINAMARCA | E22: 80 80 - COLOMBIA | F22: 5 NINGUNO | K22: CESANTIAS | L22: ='3820 PASIVOS CALIFICACIÓN Y ...'!G21 -> 231311 | M22: =L22 -> 231311 | N22: =M22 -> 231311 | O22: =N22 -> 231311 | P22: =O22/$O$505 -> 5.2299347e-05
A23: ='3820 PASIVOS CALIFICACIÓN Y ...'!A22 -> DANIELA CADENA PEÑA | B23: ='3820 PASIVOS CALIFICACIÓN Y ...'!B22 -> 1073254222 | C23: PARQUE INDUSTRIAL CELTA BOD. 144 | D23: 25473 MOSQUERA-CUNDINAMARCA | E23: 80 80 - COLOMBIA | F23: 5 NINGUNO | K23: INTERES CESANTIAS | L23: ='3820 PASIVOS CALIFICACIÓN Y ...'!G22 -> 4164 | M23: =L23 -> 4164 | N23: =M23 -> 4164 | O23: =N23 -> 4164 | P23: =O23/$O$505 -> 9.4147914e-07
A24: ='3820 PASIVOS CALIFICACIÓN Y ...'!A23 -> DANIELA CADENA PEÑA | B24: ='3820 PASIVOS CALIFICACIÓN Y ...'!B23 -> 1073254222 | C24: PARQUE INDUSTRIAL CELTA BOD. 144 | D24: 25473 MOSQUERA-CUNDINAMARCA | E24: 80 80 - COLOMBIA | F24: 5 NINGUNO | K24: VACACIONES | L24: ='3820 PASIVOS CALIFICACIÓN Y ...'!G23 -> 97500 | M24: =L24 -> 97500 | N24: =M24 -> 97500 | O24: =N24 -> 97500 | P24: =O24/$O$505 -> 2.204472e-05
A25: Total DANIELA CADENA PEÑA | L25: =SUBTOTAL(9,L21:L24) -> 564286 | M25: =SUBTOTAL(9,M21:M24) -> 564286 | N25: =SUBTOTAL(9,N21:N24) -> 564286 | O25: =SUBTOTAL(9,O21:O24) -> 564286 | P25: =SUBTOTAL(9,P21:P24) -> 0.00012758489
A26: ='3820 PASIVOS CALIFICACIÓN Y ...'!A25 -> DAVID ESTEBAN LAGUNA OSORIO | B26: ='3820 PASIVOS CALIFICACIÓN Y ...'!B25 -> 811012461 | C26: PARQUE INDUSTRIAL CELTA BOD. 144 | D26: 25473 MOSQUERA-CUNDINAMARCA | E26: 80 80 - COLOMBIA | F26: 5 NINGUNO | K26: PRIMA SERVICIOS | L26: ='3820 PASIVOS CALIFICACIÓN Y ...'!G25 -> 925838 | M26: =L26 -> 925838 | N26: =M26 -> 925838 | O26: =N26 -> 925838 | P26: =O26/$O$505 -> 0.00020933169
A27: ='3820 PASIVOS CALIFICACIÓN Y ...'!A26 -> DAVID ESTEBAN LAGUNA OSORIO | B27: ='3820 PASIVOS CALIFICACIÓN Y ...'!B26 -> 811012461 | C27: PARQUE INDUSTRIAL CELTA BOD. 144 | D27: 25473 MOSQUERA-CUNDINAMARCA | E27: 80 80 - COLOMBIA | F27: 5 NINGUNO | K27: CESANTIAS | L27: ='3820 PASIVOS CALIFICACIÓN Y ...'!G26 -> 3628114 | M27: =L27 -> 3628114 | N27: =M27 -> 3628114 | O27: =N27 -> 3628114 | P27: =O27/$O$505 -> 0.00082031548
A28: ='3820 PASIVOS CALIFICACIÓN Y ...'!A27 -> DAVID ESTEBAN LAGUNA OSORIO | B28: ='3820 PASIVOS CALIFICACIÓN Y ...'!B27 -> 811012461 | C28: PARQUE INDUSTRIAL CELTA BOD. 144 | D28: 25473 MOSQUERA-CUNDINAMARCA | E28: 80 80 - COLOMBIA | F28: 5 NINGUNO | K28: INTERES CESANTIAS | L28: ='3820 PASIVOS CALIFICACIÓN Y ...'!G27 -> 291458 | M28: =L28 -> 291458 | N28: =M28 -> 291458 | O28: =N28 -> 291458 | P28: =O28/$O$505 -> 6.5898566e-05
A29: ='3820 PASIVOS CALIFICACIÓN Y ...'!A28 -> DAVID ESTEBAN LAGUNA OSORIO | B29: ='3820 PASIVOS CALIFICACIÓN Y ...'!B28 -> 811012461 | C29: PARQUE INDUSTRIAL CELTA BOD. 144 | D29: 25473 MOSQUERA-CUNDINAMARCA | E29: 80 80 - COLOMBIA | F29: 5 NINGUNO | K29: VACACIONES | L29: ='3820 PASIVOS CALIFICACIÓN Y ...'!G28 -> 2125205 | M29: =L29 -> 2125205 | N29: =M29 -> 2125205 | O29: =N29 -> 2125205 | P29: =O29/$O$505 -> 0.00048050821
A30: Total DAVID ESTEBAN LAGUNA OSORIO | L30: =SUBTOTAL(9,L26:L29) -> 6970615 | M30: =SUBTOTAL(9,M26:M29) -> 6970615 | N30: =SUBTOTAL(9,N26:N29) -> 6970615 | O30: =SUBTOTAL(9,O26:O29) -> 6970615 | P30: =SUBTOTAL(9,P26:P29) -> 0.0015760539
A31: ='3820 PASIVOS CALIFICACIÓN Y ...'!A30 -> DIANA MARCELA AMAYA PULIDO | B31: ='3820 PASIVOS CALIFICACIÓN Y ...'!B30 -> 53893563 | C31: PARQUE INDUSTRIAL CELTA BOD. 144 | D31: 25473 MOSQUERA-CUNDINAMARCA | E31: 80 80 - COLOMBIA | F31: 5 NINGUNO | K31: PRIMA SERVICIOS | L31: ='3820 PASIVOS CALIFICACIÓN Y ...'!G30 -> 285917 | M31: =L31 -> 285917 | N31: =M31 -> 285917 | O31: =N31 -> 285917 | P31: =O31/$O$505 -> 6.4645747e-05
A32: ='3820 PASIVOS CALIFICACIÓN Y ...'!A31 -> DIANA MARCELA AMAYA PULIDO | B32: ='3820 PASIVOS CALIFICACIÓN Y ...'!B31 -> 53893563 | C32: PARQUE INDUSTRIAL CELTA BOD. 144 | D32: 25473 MOSQUERA-CUNDINAMARCA | E32: 80 80 - COLOMBIA | F32: 5 NINGUNO | K32: CESANTIAS | L32: ='3820 PASIVOS CALIFICACIÓN Y ...'!G31 -> 497225 | M32: =L32 -> 497225 | N32: =M32 -> 497225 | O32: =N32 -> 497225 | P32: =O32/$O$505 -> 0.00011242242
A33: ='3820 PASIVOS CALIFICACIÓN Y ...'!A32 -> DIANA MARCELA AMAYA PULIDO | B33: ='3820 PASIVOS CALIFICACIÓN Y ...'!B32 -> 53893563 | C33: PARQUE INDUSTRIAL CELTA BOD. 144 | D33: 25473 MOSQUERA-CUNDINAMARCA | E33: 80 80 - COLOMBIA | F33: 5 NINGUNO | K33: INTERES CESANTIAS | L33: ='3820 PASIVOS CALIFICACIÓN Y ...'!G32 -> 19725 | M33: =L33 -> 19725 | N33: =M33 -> 19725 | O33: =N33 -> 19725 | P33: =O33/$O$505 -> 4.4598165e-06
A34: ='3820 PASIVOS CALIFICACIÓN Y ...'!A33 -> DIANA MARCELA AMAYA PULIDO | B34: ='3820 PASIVOS CALIFICACIÓN Y ...'!B33 -> 53893563 | C34: PARQUE INDUSTRIAL CELTA BOD. 144 | D34: 25473 MOSQUERA-CUNDINAMARCA | E34: 80 80 - COLOMBIA | F34: 5 NINGUNO | K34: VACACIONES | L34: ='3820 PASIVOS CALIFICACIÓN Y ...'!G33 -> 207939 | M34: =L34 -> 207939 | N34: =M34 -> 207939 | O34: =N34 -> 207939 | P34: =O34/$O$505 -> 4.7014945e-05
A35: Total DIANA MARCELA AMAYA PULIDO | L35: =SUBTOTAL(9,L31:L34) -> 1010806 | M35: =SUBTOTAL(9,M31:M34) -> 1010806 | N35: =SUBTOTAL(9,N31:N34) -> 1010806 | O35: =SUBTOTAL(9,O31:O34) -> 1010806 | P35: =SUBTOTAL(9,P31:P34) -> 0.00022854293
A36: ='3820 PASIVOS CALIFICACIÓN Y ...'!A35 -> GINA PAOLA QUIROGA MOLANO | B36: ='3820 PASIVOS CALIFICACIÓN Y ...'!B35 -> 53097194 | C36: PARQUE INDUSTRIAL CELTA BOD. 144 | D36: 25473 MOSQUERA-CUNDINAMARCA | E36: 80 80 - COLOMBIA | F36: 5 NINGUNO | K36: PRIMA SERVICIOS | L36: ='3820 PASIVOS CALIFICACIÓN Y ...'!G35 -> 1048533 | M36: =L36 -> 1048533 | N36: =M36 -> 1048533 | O36: =N36 -> 1048533 | P36: =O36/$O$505 -> 0.00023707299
A37: ='3820 PASIVOS CALIFICACIÓN Y ...'!A36 -> GINA PAOLA QUIROGA MOLANO | B37: ='3820 PASIVOS CALIFICACIÓN Y ...'!B36 -> 53097194 | C37: PARQUE INDUSTRIAL CELTA BOD. 144 | D37: 25473 MOSQUERA-CUNDINAMARCA | E37: 80 80 - COLOMBIA | F37: 5 NINGUNO | K37: CESANTIAS | L37: ='3820 PASIVOS CALIFICACIÓN Y ...'!G36 -> 3186915 | M37: =L37 -> 3186915 | N37: =M37 -> 3186915 | O37: =N37 -> 3186915 | P37: =O37/$O$505 -> 0.00072056052
A38: ='3820 PASIVOS CALIFICACIÓN Y ...'!A37 -> GINA PAOLA QUIROGA MOLANO | B38: ='3820 PASIVOS CALIFICACIÓN Y ...'!B37 -> 53097194 | C38: PARQUE INDUSTRIAL CELTA BOD. 144 | D38: 25473 MOSQUERA-CUNDINAMARCA | E38: 80 80 - COLOMBIA | F38: 5 NINGUNO | K38: INTERES CESANTIAS | L38: ='3820 PASIVOS CALIFICACIÓN Y ...'!G37 -> 280449 | M38: =L38 -> 280449 | N38: =M38 -> 280449 | O38: =N38 -> 280449 | P38: =O38/$O$505 -> 6.3409434e-05
A39: ='3820 PASIVOS CALIFICACIÓN Y ...'!A38 -> GINA PAOLA QUIROGA MOLANO | B39: ='3820 PASIVOS CALIFICACIÓN Y ...'!B38 -> 53097194 | C39: PARQUE INDUSTRIAL CELTA BOD. 144 | D39: 25473 MOSQUERA-CUNDINAMARCA | E39: 80 80 - COLOMBIA | F39: 5 NINGUNO | K39: VACACIONES | L39: ='3820 PASIVOS CALIFICACIÓN Y ...'!G38 -> 3440912 | M39: =L39 -> 3440912 | N39: =M39 -> 3440912 | O39: =N39 -> 3440912 | P39: =O39/$O$505 -> 0.00077798916
A40: Total GINA PAOLA QUIROGA MOLANO | L40: =SUBTOTAL(9,L36:L39) -> 7956809 | M40: =SUBTOTAL(9,M36:M39) -> 7956809 | N40: =SUBTOTAL(9,N36:N39) -> 7956809 | O40: =SUBTOTAL(9,O36:O39) -> 7956809 | P40: =SUBTOTAL(9,P36:P39) -> 0.0017990321
A41: ='3820 PASIVOS CALIFICACIÓN Y ...'!A40 -> GISELA EMILSE GONZALES RAMOS | B41: ='3820 PASIVOS CALIFICACIÓN Y ...'!B40 -> 1003566790 | C41: PARQUE INDUSTRIAL CELTA BOD. 144 | D41: 25473 MOSQUERA-CUNDINAMARCA | E41: 80 80 - COLOMBIA | F41: 5 NINGUNO | K41: PRIMA SERVICIOS | L41: ='3820 PASIVOS CALIFICACIÓN Y ...'!G40 -> 427971 | M41: =L41 -> 427971 | N41: =M41 -> 427971 | O41: =N41 -> 427971 | P41: =O41/$O$505 -> 9.6764113e-05
A42: ='3820 PASIVOS CALIFICACIÓN Y ...'!A41 -> GISELA EMILSE GONZALES RAMOS | B42: ='3820 PASIVOS CALIFICACIÓN Y ...'!B41 -> 1003566790 | C42: PARQUE INDUSTRIAL CELTA BOD. 144 | D42: 25473 MOSQUERA-CUNDINAMARCA | E42: 80 80 - COLOMBIA | F42: 5 NINGUNO | K42: CESANTIAS | L42: ='3820 PASIVOS CALIFICACIÓN Y ...'!G41 -> 1345051 | M42: =L42 -> 1345051 | N42: =M42 -> 1345051 | O42: =N42 -> 1345051 | P42: =O42/$O$505 -> 0.00030411562
...

Sheet 3820 PASIVOS CALIFICACIÓN Y ...
A1: Tipo Informe | B1: 32 | C1: 32-CALIFICACIÓN Y GRADUACIÓN DE CRÉDITOS Y DERECHO
A2: Formulario | B2: 3820 | C2: PASIVOS CALIFICACIÓN Y GRADUACIÓN DE CRÉDITOS - 820
A3: Moneda Informe | B3: 1
A4: Entidad | B4: 811012461
A5: Fecha | B5: 45543
A6: Periodicidad | B6: 1 | C6: NO APLICA
A9: Nombre o Razón Social | B9: Nit o Cédula de Ciudadanía | C9: Clase de Crédito | E9: FV | F9: No de la Obligación | G9: Saldo Capital por Pagar | H9: Identificación Bien en Garantía
A10: CLAUDIA PAOLA PAEZ CARDENAS | B10: 1121933265 | C10: LABORAL | D10: claudiapaez0118@gmail.com | E10: 45559 | F10: PRIMA SERVICIOS | G10: 590867
A11: CLAUDIA PAOLA PAEZ CARDENAS | B11: 1121933265 | C11: LABORAL | D11: claudiapaez0118@gmail.com | E11: 45559 | F11: CESANTIAS | G11: 1795173
A12: CLAUDIA PAOLA PAEZ CARDENAS | B12: 1121933265 | C12: LABORAL | D12: claudiapaez0118@gmail.com | E12: 45559 | F12: INTERES CESANTIAS | G12: 157976
A13: CLAUDIA PAOLA PAEZ CARDENAS | B13: 1121933265 | C13: LABORAL | D13: claudiapaez0118@gmail.com | E13: 45559 | F13: VACACIONES | G13: 326807
A14: Total CLAUDIA PAOLA PAEZ CARDENAS | G14: =SUBTOTAL(9,G10:G13) -> 2870823
A15: DANIEL HERNANDO GOMEZ GOMEZ | B15: 79946374 | C15: LABORAL | D15: dhgdaniel@hotmail.com | E15: 45559 | F15: PRIMA SERVICIOS | G15: 1983333
A16: DANIEL HERNANDO GOMEZ GOMEZ | B16: 79946374 | C16: LABORAL | D16: dhgdaniel@hotmail.com | E16: 45559 | F16: CESANTIAS | G16: 6233333
A17: DANIEL HERNANDO GOMEZ GOMEZ | B17: 79946374 | C17: LABORAL | D17: dhgdaniel@hotmail.com | E17: 45559 | F17: INTERES CESANTIAS | G17: 548533
A18: DANIEL HERNANDO GOMEZ GOMEZ | B18: 79946374 | C18: LABORAL | D18: dhgdaniel@hotmail.com | E18: 45559 | F18: VACACIONES | G18: 5023925
A19: Total DANIEL HERNANDO GOMEZ GOMEZ | G19: =SUBTOTAL(9,G15:G18) -> 13789124
A20: DANIELA CADENA PEÑA | B20: 1073254222 | C20: LABORAL | D20: daniecadena0516@gmail.com | E20: 45550 | F20: PRIMA SERVICIOS | G20: 231311
A21: DANIELA CADENA PEÑA | B21: 1073254222 | C21: LABORAL | D21: daniecadena0516@gmail.com | E21: 45550 | F21: CESANTIAS | G21: 231311
A22: DANIELA CADENA PEÑA | B22: 1073254222 | C22: LABORAL | D22: daniecadena0516@gmail.com | E22: 45550 | F22: INTERES CESANTIAS | G22: 4164
A23: DANIELA CADENA PEÑA | B23: 1073254222 | C23: LABORAL | D23: daniecadena0516@gmail.com | E23: 45550 | F23: VACACIONES | G23: 97500
A24: Total DANIELA CADENA PEÑA | G24: =SUBTOTAL(9,G20:G23) -> 564286
A25: DAVID ESTEBAN LAGUNA OSORIO | B25: 811012461 | C25: LABORAL | D25: davielo79@gmail.com | E25: 45534 | F25: PRIMA SERVICIOS | G25: 925838
A26: DAVID ESTEBAN LAGUNA OSORIO | B26: 811012461 | C26: LABORAL | D26: davielo79@gmail.com | E26: 45534 | F26: CESANTIAS | G26: 3628114
A27: DAVID ESTEBAN LAGUNA OSORIO | B27: 811012461 | C27: LABORAL | D27: davielo79@gmail.com | E27: 45534 | F27: INTERES CESANTIAS | G27: 291458
A28: DAVID ESTEBAN LAGUNA OSORIO | B28: 811012461 | C28: LABORAL | D28: davielo79@gmail.com | E28: 45534 | F28: VACACIONES | G28: 2125205
A29: Total DAVID ESTEBAN LAGUNA OSORIO | G29: =SUBTOTAL(9,G25:G28) -> 6970615
A30: DIANA MARCELA AMAYA PULIDO | B30: 53893563 | C30: LABORAL | D30: dianaamaya1525@gmail.com | E30: 45542 | F30: PRIMA SERVICIOS | G30: 285917
A31: DIANA MARCELA AMAYA PULIDO | B31: 53893563 | C31: LABORAL | D31: dianaamaya1525@gmail.com | E31: 45542 | F31: CESANTIAS | G31: 497225
A32: DIANA MARCELA AMAYA PULIDO | B32: 53893563 | C32: LABORAL | D32: dianaamaya1525@gmail.com | E32: 45542 | F32: INTERES CESANTIAS | G32: 19725
A33: DIANA MARCELA AMAYA PULIDO | B33: 53893563 | C33: LABORAL | D33: dianaamaya1525@gmail.com | E33: 45542 | F33: VACACIONES | G33: 207939
A34: Total DIANA MARCELA AMAYA PULIDO | G34: =SUBTOTAL(9,G30:G33) -> 1010806
A35: GINA PAOLA QUIROGA MOLANO | B35: 53097194 | C35: LABORAL | D35: gquirogamolano@gmail.com | E35: 45559 | F35: PRIMA SERVICIOS | G35: 1048533
A36: GINA PAOLA QUIROGA MOLANO | B36: 53097194 | C36: LABORAL | D36: gquirogamolano@gmail.com | E36: 45559 | F36: CESANTIAS | G36: 3186915
A37: GINA PAOLA QUIROGA MOLANO | B37: 53097194 | C37: LABORAL | D37: gquirogamolano@gmail.com | E37: 45559 | F37: INTERES CESANTIAS | G37: 280449
A38: GINA PAOLA QUIROGA MOLANO | B38: 53097194 | C38: LABORAL | D38: gquirogamolano@gmail.com | E38: 45559 | F38: VACACIONES | G38: 3440912
A39: Total GINA PAOLA QUIROGA MOLANO | G39: =SUBTOTAL(9,G35:G38) -> 7956809
A40: GISELA EMILSE GONZALES RAMOS | B40: 1003566790 | C40: LABORAL | D40: gisellgonzalez490@gmail.com | E40: 45559 | F40: PRIMA SERVICIOS | G40: 427971
A41: GISELA EMILSE GONZALES RAMOS | B41: 1003566790 | C41: LABORAL | D41: gisellgonzalez490@gmail.com | E41: 45559 | F41: CESANTIAS | G41: 1345051
A42: GISELA EMILSE GONZALES RAMOS | B42: 1003566790 | C42: LABORAL | D42: gisellgonzalez490@gmail.com | E42: 45559 | F42: INTERES CESANTIAS | G42: 118365
...

Sheet Hoja1
